BEGIN:VCALENDAR
VERSION:2.0
PRODID:-//Paramount Bristol - ECPv6.6.4.2//NONSGML v1.0//EN
CALSCALE:GREGORIAN
METHOD:PUBLISH
X-WR-CALNAME:Paramount Bristol
X-ORIGINAL-URL:https://paramountbristol.org
X-WR-CALDESC:Events for Paramount Bristol
REFRESH-INTERVAL;VALUE=DURATION:PT1H
X-Robots-Tag:noindex
X-PUBLISHED-TTL:PT1H
BEGIN:VTIMEZONE
TZID:America/New_York
BEGIN:DAYLIGHT
TZOFFSETFROM:-0500
TZOFFSETTO:-0400
TZNAME:EDT
DTSTART:20260308T070000
END:DAYLIGHT
BEGIN:STANDARD
TZOFFSETFROM:-0400
TZOFFSETTO:-0500
TZNAME:EST
DTSTART:20261101T060000
END:STANDARD
END:VTIMEZONE
BEGIN:VEVENT
DTSTART;TZID=America/New_York:20260421T190000
DTEND;TZID=America/New_York:20260421T220000
DTSTAMP:20260421T025306
CREATED:20251013T200003Z
LAST-MODIFIED:20251117T205530Z
UID:10469-1776798000-1776808800@paramountbristol.org
SUMMARY:World Ballet Company: Swan Lake
DESCRIPTION:Paramount Bristol Hosts A Bristol Dance Academy Presentation\n			\n				\n				\n				\n				\n				\n				\n					Bristol Dance Academy – It’s Showtime!\n				\n				\n			\n			\n				\n				\n				\n				\n			\n				\n				\n				\n				\n				\n				\n				\n				\n				\n				\n				Sat\, May 16\, 2026\n			\n				\n				\n				\n				\n				Doors 10:15 am / Show 11 am\n			\n				\n				\n				\n				\n				Tickets are $36.00 for Adults and $24.50 for Children 8 & under - prices include all applicable fees and taxes\n			\n				BUY TICKETS\n			\n				\n				\n				\n				\n				Come see the award winning dancers and tumblers from Bristol Dance Academy. This group of performers range in age from three to nineteen.  See this 2025 Studio of Excellence winner for a fun filled night of dancing and tumbling in a performance of “Time to Dance”!  \n  \nOur Box Office opens 2 hours before showtime. For shows not already sold out\, tickets will be available at the door on the day of show for an additional cost of $5 (+tax and service fee). BUYER BEWARE! Third party tickets (StubHub\, eTix\, VividSeats\, etc.) will NOT be honored. Tickets are available via paramountbristol.org or our Box Office ONLY.  All sales are final. Refunds and exchanges are not permitted.  Outside food and drinks are not allowed. \n\n			\n			\n				\n				\n				\n				\n				\n				\n				\n				\n				\n				Follow World Ballet Series \n			\n				\n				\n				\n				\n				FollowFollowFollow
URL:https://paramountbristol.org/event/swan-lake-2025/
LOCATION:Paramount Bristol\, Bristol\, TN
CATEGORIES:Music and Live Events
ATTACH;FMTTYPE=image/jpeg:https://paramountbristol.org/wp-content/uploads/2025/09/GSL_400x284px.jpg
END:VEVENT
END:VCALENDAR