BEGIN:VCALENDAR
VERSION:2.0
PRODID:-//Paramount Bristol - ECPv6.6.4.2//NONSGML v1.0//EN
CALSCALE:GREGORIAN
METHOD:PUBLISH
X-ORIGINAL-URL:https://paramountbristol.org
X-WR-CALDESC:Events for Paramount Bristol
REFRESH-INTERVAL;VALUE=DURATION:PT1H
X-Robots-Tag:noindex
X-PUBLISHED-TTL:PT1H
BEGIN:VTIMEZONE
TZID:America/New_York
BEGIN:DAYLIGHT
TZOFFSETFROM:-0500
TZOFFSETTO:-0400
TZNAME:EDT
DTSTART:20250309T070000
END:DAYLIGHT
BEGIN:STANDARD
TZOFFSETFROM:-0400
TZOFFSETTO:-0500
TZNAME:EST
DTSTART:20251102T060000
END:STANDARD
END:VTIMEZONE
BEGIN:VEVENT
DTSTART;TZID=America/New_York:20250417T190000
DTEND;TZID=America/New_York:20250418T220000
DTSTAMP:20260420T060257
CREATED:20240906T191952Z
LAST-MODIFIED:20241108T175653Z
UID:9454-1744916400-1745013600@paramountbristol.org
SUMMARY:World Ballet Company presents: The Great Gatsby
DESCRIPTION:Grease\n				\n				\n			\n			\n				\n				\n				\n				\n			\n				\n				\n				\n				\n				\n				\n				\n				\n				\n				\n				\n			\n				\n				\n				\n				\n				\n			\n				\n				\n				\n				\n				\n			\n				BUY TICKETS\n			\n			\n				\n				\n				\n				\n				\n				\n				\n				\n				\n				\n			\n				\n				\n				\n				\n				\n			\n				\n				\n				\n				\n				\n			\n				BUY TICKETS\n			\n			\n				\n				\n				\n				\n				\n				\n				\n				\n				\n				FollowFollowFollow\n			\n			\n				\n				\n				\n				\n			\n				\n				\n				\n				\n				\n				\n				\n				\n				\n				\n				\nSomething Great is coming to Bristol this Spring!\n \nJoin us for the World Premiere of The Great Gatsby Ballet!\nStep into the jazzy world of the Roaring Twenties with this new production of the World Ballet Company. See the glitz\, glamor\, and tragic romance of F. Scott Fitzgerald’s timeless novel LIVE on stage\, featuring a multinational cast of 40 professional ballet dancers\, an all-star creative team\, lustrous hand-crafted costumes\, and lavish\, groundbreaking sets. The original score evokes the energy and atmosphere of the 1920s. World Ballet Company’s “The Great Gatsby” is a must-see feast for the eyes. Get your tickets today and be among the first to experience this lavish new production!\n \n*The Creative Team of The Great Gatsby: Renowned choreographer Ilya Zhivoy captures the passion of the central love story with a sensual\, dynamic style. Celebrated LA-based film and TV composer Anna Drubich\, whose work includes the music for the 2023 Oscar-winning Navalny documentary\, makes her ballet debut with a rich\, lively score that embraces the sounds of the Jazz Age. Theatrical costume designs by Sonya Vartanyan complete the production with sumptuousness and fling.\n \n**About the Company: Based in Los Angeles\, and led by Sasha Gorskaya and Gulya Hartwick\, the World Ballet Company presents the most beloved and iconic ballets of our time in cities nationwide. Driven by the belief that ballet is for everyone\, performances appeal to newcomers and seasoned ballet goers alike. The company attracts many international artists and comprises renowned professional dancers representing over ten countries.\nTo date\, World Ballet Company has traveled to more than 300 cities\, reaching an audience of more than 450\,000\, many of whom are first-time attendees to a ballet.\n \nDuration: 2 hours (including 20-minute intermission)\n \nAudience: For ages 8 & over\n\n  \nDoors open at 6:15pm. Our Box Office opens 2 hours before showtime. For shows not already sold out\, tickets will be available at the door on the day of show for an additional cost of $5 (+tax and service fee). BUYER BEWARE! Third party tickets (StubHub\, eTix\, VividSeats\, etc.) will NOT be honored. Tickets are available via paramountbristol.org or our Box Office ONLY.  All sales are final. Refunds and exchanges are not permitted.  Outside food and drinks are not allowed.
URL:https://paramountbristol.org/event/greatgatsby/
LOCATION:Paramount Bristol\, Bristol\, TN
CATEGORIES:Community Events,Dance,Music and Live Events,Upcoming Attractions
ATTACH;FMTTYPE=image/jpeg:https://paramountbristol.org/wp-content/uploads/2024/09/GGG_400x284px.jpg
END:VEVENT
END:VCALENDAR