BEGIN:VCALENDAR
VERSION:2.0
PRODID:-//Paramount Bristol - ECPv6.6.4.2//NONSGML v1.0//EN
CALSCALE:GREGORIAN
METHOD:PUBLISH
X-WR-CALNAME:Paramount Bristol
X-ORIGINAL-URL:https://paramountbristol.org
X-WR-CALDESC:Events for Paramount Bristol
REFRESH-INTERVAL;VALUE=DURATION:PT1H
X-Robots-Tag:noindex
X-PUBLISHED-TTL:PT1H
BEGIN:VTIMEZONE
TZID:America/New_York
BEGIN:DAYLIGHT
TZOFFSETFROM:-0500
TZOFFSETTO:-0400
TZNAME:EDT
DTSTART:20230312T070000
END:DAYLIGHT
BEGIN:STANDARD
TZOFFSETFROM:-0400
TZOFFSETTO:-0500
TZNAME:EST
DTSTART:20231105T060000
END:STANDARD
END:VTIMEZONE
BEGIN:VEVENT
DTSTART;TZID=America/New_York:20230106T190000
DTEND;TZID=America/New_York:20230106T210000
DTSTAMP:20260420T045832
CREATED:20220120T201931Z
LAST-MODIFIED:20221108T191944Z
UID:4886-1673031600-1673038800@paramountbristol.org
SUMMARY:Another Evening with Dailey & Vincent
DESCRIPTION:Bristol Dance Academy – It’s Showtime!\n				\n				\n			\n			\n				\n				\n				\n				\n			\n				\n				\n				\n				\n				\n				\n				\n				\n				\n				\n				\n			\n				\n				\n				\n				\n				\n			\n				\n				\n				\n				\n				\n			\n				BUY TICKETS\n			\n				\n				\n				\n				\n				\n			\n			\n				\n				\n				\n				\n				\n				\n				\n				\n				\n				Follow Bristol Dance Academy – It’s Showtime!\n			\n				\n				\n				\n				\n				FollowFollowFollowFollowFollow
URL:https://paramountbristol.org/event/another-evening-with-dailey-vincent/
LOCATION:Paramount Bristol\, Bristol\, TN
CATEGORIES:Bluegrass,Just Announced,Music and Live Events
ATTACH;FMTTYPE=image/jpeg:https://paramountbristol.org/wp-content/uploads/2021/06/Dailey-and-Vincent.jpg
END:VEVENT
END:VCALENDAR