BEGIN:VCALENDAR
VERSION:2.0
PRODID:-//Paramount Bristol - ECPv6.6.4.2//NONSGML v1.0//EN
CALSCALE:GREGORIAN
METHOD:PUBLISH
X-ORIGINAL-URL:https://paramountbristol.org
X-WR-CALDESC:Events for Paramount Bristol
REFRESH-INTERVAL;VALUE=DURATION:PT1H
X-Robots-Tag:noindex
X-PUBLISHED-TTL:PT1H
BEGIN:VTIMEZONE
TZID:America/New_York
BEGIN:DAYLIGHT
TZOFFSETFROM:-0500
TZOFFSETTO:-0400
TZNAME:EDT
DTSTART:20250309T070000
END:DAYLIGHT
BEGIN:STANDARD
TZOFFSETFROM:-0400
TZOFFSETTO:-0500
TZNAME:EST
DTSTART:20251102T060000
END:STANDARD
END:VTIMEZONE
BEGIN:VEVENT
DTSTART;TZID=America/New_York:20251124T173000
DTEND;TZID=America/New_York:20251124T220000
DTSTAMP:20260425T111302
CREATED:20251017T200030Z
LAST-MODIFIED:20251022T173654Z
UID:9595-1764005400-1764021600@paramountbristol.org
SUMMARY:It's A Wonderful Life
DESCRIPTION:It’s A Wonderful Life\n				\n				\n			\n			\n				\n				\n				\n				\n			\n				\n				\n				\n				\n				\n				\n				\n				\n				\n				\n				\n			\n				\n				\n				\n				\n				\n			\n				\n				\n				\n				\n				\n			\n				BUY TICKETS\n			\n				\n				\n				\n				\n				\n			\n			\n				\n				\n				\n				\n				\n				\n				\n				\n				\n				Follow Us! \n			\n				\n				\n				\n				\n				FollowFollowFollow
URL:https://paramountbristol.org/event/wonderful-life/
LOCATION:Paramount Bristol\, Bristol\, TN
CATEGORIES:Movies,Movies,Movies and Film,Pop
ATTACH;FMTTYPE=image/png:https://paramountbristol.org/wp-content/uploads/2024/11/IAWL-400-x-284.png
END:VEVENT
END:VCALENDAR