BEGIN:VCALENDAR
VERSION:2.0
PRODID:-//Paramount Bristol - ECPv6.6.4.2//NONSGML v1.0//EN
CALSCALE:GREGORIAN
METHOD:PUBLISH
X-ORIGINAL-URL:https://paramountbristol.org
X-WR-CALDESC:Events for Paramount Bristol
REFRESH-INTERVAL;VALUE=DURATION:PT1H
X-Robots-Tag:noindex
X-PUBLISHED-TTL:PT1H
BEGIN:VTIMEZONE
TZID:America/New_York
BEGIN:DAYLIGHT
TZOFFSETFROM:-0500
TZOFFSETTO:-0400
TZNAME:EDT
DTSTART:20250309T070000
END:DAYLIGHT
BEGIN:STANDARD
TZOFFSETFROM:-0400
TZOFFSETTO:-0500
TZNAME:EST
DTSTART:20251102T060000
END:STANDARD
END:VTIMEZONE
BEGIN:VEVENT
DTSTART;TZID=America/New_York:20250821T183000
DTEND;TZID=America/New_York:20250821T193000
DTSTAMP:20260420T033812
CREATED:20250506T180036Z
LAST-MODIFIED:20250710T174233Z
UID:10266-1755801000-1755804600@paramountbristol.org
SUMMARY:One Night of Queen
DESCRIPTION:Jump – America’s Van Halen Experience\n				\n				\n			\n			\n				\n				\n				\n				\n			\n				\n				\n				\n				\n				\n				\n				\n				\n				\n				\n				\n			\n				\n				\n				\n				\n				\n			\n				\n				\n				\n				\n				\n			\n				BUY TICKETS\n			\n				\n				\n				\n				\n				\n			\n			\n				\n				\n				\n				\n				\n				\n				\n				\n				\n				Follow Jump – America’s Van Halen Experience\n			\n				\n				\n				\n				\n				FollowFollowFollowFollowFollow
URL:https://paramountbristol.org/event/one-night-of-queen/
LOCATION:Paramount Bristol\, Bristol\, TN
CATEGORIES:Classic Rock,Music and Live Events
ATTACH;FMTTYPE=image/jpeg:https://paramountbristol.org/wp-content/uploads/2025/05/ONOQ-400-x-284-LIMITED-TIX.jpg
END:VEVENT
END:VCALENDAR