BEGIN:VCALENDAR
VERSION:2.0
PRODID:-//Paramount Bristol - ECPv6.6.4.2//NONSGML v1.0//EN
CALSCALE:GREGORIAN
METHOD:PUBLISH
X-ORIGINAL-URL:https://paramountbristol.org
X-WR-CALDESC:Events for Paramount Bristol
REFRESH-INTERVAL;VALUE=DURATION:PT1H
X-Robots-Tag:noindex
X-PUBLISHED-TTL:PT1H
BEGIN:VTIMEZONE
TZID:America/New_York
BEGIN:DAYLIGHT
TZOFFSETFROM:-0500
TZOFFSETTO:-0400
TZNAME:EDT
DTSTART:20230312T070000
END:DAYLIGHT
BEGIN:STANDARD
TZOFFSETFROM:-0400
TZOFFSETTO:-0500
TZNAME:EST
DTSTART:20231105T060000
END:STANDARD
END:VTIMEZONE
BEGIN:VEVENT
DTSTART;TZID=America/New_York:20230624T190000
DTEND;TZID=America/New_York:20230624T210000
DTSTAMP:20260425T061947
CREATED:20230207T170034Z
LAST-MODIFIED:20230522T184517Z
UID:6887-1687633200-1687640400@paramountbristol.org
SUMMARY:Bored Teachers Comedy Tour
DESCRIPTION:Colin Mochrie & Brad Sherwood: Asking For Trouble\n				\n				\n			\n			\n				\n				\n				\n				\n			\n				\n				\n				\n				\n				\n				\n				\n				\n				\n				\n				\n			\n				\n				\n				\n				\n				\n			\n				\n				\n				\n				\n				\n			\n				BUY TICKETS\n			\n				\n				\n				\n				\n				\n			\n			\n				\n				\n				\n				\n				\n				\n				\n				\n				\n				Follow Colin Mochrie & Brad Sherwood: Asking For Trouble\n			\n				\n				\n				\n				\n				FollowFollowFollow
URL:https://paramountbristol.org/event/boredteachers/
LOCATION:Paramount Bristol\, Bristol\, TN
CATEGORIES:Comedy,Comedy,Education,Just Announced
ATTACH;FMTTYPE=image/png:https://paramountbristol.org/wp-content/uploads/2023/02/BT-Comedy-Tour-LOGO_1920x1080-with-images.png
END:VEVENT
END:VCALENDAR