BEGIN:VCALENDAR
VERSION:2.0
PRODID:-//Paramount Bristol - ECPv6.6.4.2//NONSGML v1.0//EN
CALSCALE:GREGORIAN
METHOD:PUBLISH
X-WR-CALNAME:Paramount Bristol
X-ORIGINAL-URL:https://paramountbristol.org
X-WR-CALDESC:Events for Paramount Bristol
REFRESH-INTERVAL;VALUE=DURATION:PT1H
X-Robots-Tag:noindex
X-PUBLISHED-TTL:PT1H
BEGIN:VTIMEZONE
TZID:America/New_York
BEGIN:DAYLIGHT
TZOFFSETFROM:-0500
TZOFFSETTO:-0400
TZNAME:EDT
DTSTART:20250309T070000
END:DAYLIGHT
BEGIN:STANDARD
TZOFFSETFROM:-0400
TZOFFSETTO:-0500
TZNAME:EST
DTSTART:20251102T060000
END:STANDARD
END:VTIMEZONE
BEGIN:VEVENT
DTSTART;TZID=America/New_York:20251107T180000
DTEND;TZID=America/New_York:20251107T190000
DTSTAMP:20260425T125829
CREATED:20250603T150046Z
LAST-MODIFIED:20251015T180606Z
UID:10294-1762538400-1762542000@paramountbristol.org
SUMMARY:Jamie Lissow
DESCRIPTION:Colin Mochrie & Brad Sherwood: Asking For Trouble\n				\n				\n			\n			\n				\n				\n				\n				\n			\n				\n				\n				\n				\n				\n				\n				\n				\n				\n				\n				\n			\n				\n				\n				\n				\n				\n			\n				\n				\n				\n				\n				\n			\n				BUY TICKETS\n			\n				\n				\n				\n				\n				\n			\n			\n				\n				\n				\n				\n				\n				\n				\n				\n				\n				Follow Colin Mochrie & Brad Sherwood: Asking For Trouble\n			\n				\n				\n				\n				\n				FollowFollowFollowFollow
URL:https://paramountbristol.org/event/jamie-lissow/
LOCATION:Paramount Bristol\, Bristol\, TN
CATEGORIES:Comedy,Music and Live Events
ATTACH;FMTTYPE=image/jpeg:https://paramountbristol.org/wp-content/uploads/2025/05/JamieLissow-400-x-284.jpg
END:VEVENT
END:VCALENDAR