BEGIN:VCALENDAR
VERSION:2.0
PRODID:-//Paramount Bristol - ECPv6.6.4.2//NONSGML v1.0//EN
CALSCALE:GREGORIAN
METHOD:PUBLISH
X-WR-CALNAME:Paramount Bristol
X-ORIGINAL-URL:https://paramountbristol.org
X-WR-CALDESC:Events for Paramount Bristol
REFRESH-INTERVAL;VALUE=DURATION:PT1H
X-Robots-Tag:noindex
X-PUBLISHED-TTL:PT1H
BEGIN:VTIMEZONE
TZID:America/New_York
BEGIN:DAYLIGHT
TZOFFSETFROM:-0500
TZOFFSETTO:-0400
TZNAME:EDT
DTSTART:20240310T070000
END:DAYLIGHT
BEGIN:STANDARD
TZOFFSETFROM:-0400
TZOFFSETTO:-0500
TZNAME:EST
DTSTART:20241103T060000
END:STANDARD
END:VTIMEZONE
BEGIN:VEVENT
DTSTART;TZID=America/New_York:20240601T193000
DTEND;TZID=America/New_York:20240601T213000
DTSTAMP:20260421T065503
CREATED:20240116T165502Z
LAST-MODIFIED:20240220T192300Z
UID:8403-1717270200-1717277400@paramountbristol.org
SUMMARY:Mac McAnally
DESCRIPTION:Bristol Dance Academy – It’s Showtime!\n				\n				\n			\n			\n				\n				\n				\n				\n			\n				\n				\n				\n				\n				\n				\n				\n				\n				\n				\n				\n			\n				\n				\n				\n				\n				\n			\n				\n				\n				\n				\n				\n			\n				BUY TICKETS\n			\n				\n				\n				\n				\n				\n			\n			\n				\n				\n				\n				\n				\n				\n				\n				\n				\n				Follow Bristol Dance Academy – It’s Showtime!\n			\n				\n				\n				\n				\n				FollowFollowFollowFollowFollow\n			\n				\n				\n				\n				\n				Check out Mac McAnally on Spotify!
URL:https://paramountbristol.org/event/mac/
LOCATION:Paramount Bristol\, Bristol\, TN
CATEGORIES:Live Events,Music,Music and Live Events,Pop,Pre-sale
ATTACH;FMTTYPE=image/jpeg:https://paramountbristol.org/wp-content/uploads/2024/01/Mac-McAnally-400-x-284-SOLD-OUT.jpg
END:VEVENT
END:VCALENDAR