BEGIN:VCALENDAR
VERSION:2.0
PRODID:-//Paramount Bristol - ECPv6.6.4.2//NONSGML v1.0//EN
CALSCALE:GREGORIAN
METHOD:PUBLISH
X-WR-CALNAME:Paramount Bristol
X-ORIGINAL-URL:https://paramountbristol.org
X-WR-CALDESC:Events for Paramount Bristol
REFRESH-INTERVAL;VALUE=DURATION:PT1H
X-Robots-Tag:noindex
X-PUBLISHED-TTL:PT1H
BEGIN:VTIMEZONE
TZID:America/New_York
BEGIN:DAYLIGHT
TZOFFSETFROM:-0500
TZOFFSETTO:-0400
TZNAME:EDT
DTSTART:20200308T070000
END:DAYLIGHT
BEGIN:STANDARD
TZOFFSETFROM:-0400
TZOFFSETTO:-0500
TZNAME:EST
DTSTART:20201101T060000
END:STANDARD
BEGIN:DAYLIGHT
TZOFFSETFROM:-0500
TZOFFSETTO:-0400
TZNAME:EDT
DTSTART:20210314T070000
END:DAYLIGHT
BEGIN:STANDARD
TZOFFSETFROM:-0400
TZOFFSETTO:-0500
TZNAME:EST
DTSTART:20211107T060000
END:STANDARD
BEGIN:DAYLIGHT
TZOFFSETFROM:-0500
TZOFFSETTO:-0400
TZNAME:EDT
DTSTART:20220313T070000
END:DAYLIGHT
BEGIN:STANDARD
TZOFFSETFROM:-0400
TZOFFSETTO:-0500
TZNAME:EST
DTSTART:20221106T060000
END:STANDARD
BEGIN:DAYLIGHT
TZOFFSETFROM:-0500
TZOFFSETTO:-0400
TZNAME:EDT
DTSTART:20230312T070000
END:DAYLIGHT
BEGIN:STANDARD
TZOFFSETFROM:-0400
TZOFFSETTO:-0500
TZNAME:EST
DTSTART:20231105T060000
END:STANDARD
END:VTIMEZONE
BEGIN:VEVENT
DTSTART;TZID=America/New_York:20231115T193000
DTEND;TZID=America/New_York:20231115T230000
DTSTAMP:20260424T175318
CREATED:20230612T155840Z
LAST-MODIFIED:20230613T210650Z
UID:7438-1700076600-1700089200@paramountbristol.org
SUMMARY:Henry Rollins
DESCRIPTION:Choir! Choir! Choir!\n				\n				\n			\n			\n				\n				\n				\n				\n			\n				\n				\n				\n				\n				\n				\n				\n				\n				\n				\n				\n			\n				\n				\n				\n				\n				\n			\n				\n				\n				\n				\n				\n			\n				BUY TICKETS\n			\n				\n				\n				\n				\n				\n			\n			\n				\n				\n				\n				\n				\n				\n				\n				\n				\n				Follow Choir! Choir! Choir!\n			\n				\n				\n				\n				\n				FollowFollowFollowFollowFollow\n			\n				\n				\n				\n				\n				Check out Henry Rollins on Spotify!
URL:https://paramountbristol.org/event/rollins/
LOCATION:Paramount Bristol\, Bristol\, TN
CATEGORIES:Comedy,Live Events,Music,Music and Live Events,Pop,Pre-sale
ATTACH;FMTTYPE=image/png:https://paramountbristol.org/wp-content/uploads/2023/06/Henry-Rollins-400-x-284.png
END:VEVENT
BEGIN:VEVENT
DTSTART;TZID=America/New_York:20231109T193000
DTEND;TZID=America/New_York:20231109T223000
DTSTAMP:20260424T175318
CREATED:20230606T153323Z
LAST-MODIFIED:20230607T155725Z
UID:7417-1699558200-1699569000@paramountbristol.org
SUMMARY:Gaelic Storm
DESCRIPTION:Choir! Choir! Choir!\n				\n				\n			\n			\n				\n				\n				\n				\n			\n				\n				\n				\n				\n				\n				\n				\n				\n				\n				\n				\n			\n				\n				\n				\n				\n				\n			\n				\n				\n				\n				\n				\n			\n				BUY TICKETS\n			\n				\n				\n				\n				\n				\n			\n			\n				\n				\n				\n				\n				\n				\n				\n				\n				\n				Follow Choir! Choir! Choir!\n			\n				\n				\n				\n				\n				FollowFollowFollowFollowFollow\n			\n				\n				\n				\n				\n				Check out Gaelic Storm on Spotify!
URL:https://paramountbristol.org/event/gaelic-storm/
LOCATION:Paramount Bristol\, Bristol\, TN
CATEGORIES:Comedy,Live Events,Music,Music and Live Events,Pop,Pre-sale
ATTACH;FMTTYPE=image/jpeg:https://paramountbristol.org/wp-content/uploads/2023/06/Gaelic-Storm-400-x-284.jpg
END:VEVENT
BEGIN:VEVENT
DTSTART;TZID=America/New_York:20231003T190000
DTEND;TZID=America/New_York:20231003T220000
DTSTAMP:20260424T175318
CREATED:20230407T160025Z
LAST-MODIFIED:20230921T193028Z
UID:7106-1696359600-1696370400@paramountbristol.org
SUMMARY:Cinderella
DESCRIPTION:Choir! Choir! Choir!\n				\n				\n			\n			\n				\n				\n				\n				\n			\n				\n				\n				\n				\n				\n				\n				\n				\n				\n				\n				\n			\n				\n				\n				\n				\n				\n			\n				\n				\n				\n				\n				\n			\n				BUY TICKETS
URL:https://paramountbristol.org/event/cinderella-world-ballet/
LOCATION:Paramount Bristol\, Bristol\, TN
CATEGORIES:Ballet,Live Events,Music and Live Events,Theatre
ATTACH;FMTTYPE=image/jpeg:https://paramountbristol.org/wp-content/uploads/2023/04/Cinderella-400-x-284.jpg
END:VEVENT
BEGIN:VEVENT
DTSTART;TZID=America/New_York:20230913T193000
DTEND;TZID=America/New_York:20230913T223000
DTSTAMP:20260424T175319
CREATED:20230508T160011Z
LAST-MODIFIED:20230905T191831Z
UID:7242-1694633400-1694644200@paramountbristol.org
SUMMARY:Ben Folds
DESCRIPTION:Choir! Choir! Choir!\n				\n				\n			\n			\n				\n				\n				\n				\n			\n				\n				\n				\n				\n				\n				\n				\n				\n				\n				\n				\n			\n				\n				\n				\n				\n				\n			\n				\n				\n				\n				\n				\n			\n				BUY TICKETS\n			\n				\n				\n				\n				\n				\n			\n			\n				\n				\n				\n				\n				\n				\n				\n				\n				\n				Follow Choir! Choir! Choir!\n			\n				\n				\n				\n				\n				FollowFollowFollowFollowFollow\n			\n				\n				\n				\n				\n				Sample Ben Folds on Spotify!
URL:https://paramountbristol.org/event/ben-folds/
LOCATION:Paramount Bristol\, Bristol\, TN
CATEGORIES:Live Events,Music,Music and Live Events,Pop
ATTACH;FMTTYPE=image/png:https://paramountbristol.org/wp-content/uploads/2023/05/Ben-Folds-400-x-284.png
END:VEVENT
BEGIN:VEVENT
DTSTART;TZID=America/New_York:20230826T180000
DTEND;TZID=America/New_York:20230826T200000
DTSTAMP:20260424T175319
CREATED:20230524T160005Z
LAST-MODIFIED:20230714T164825Z
UID:7348-1693072800-1693080000@paramountbristol.org
SUMMARY:Bristol Ballet 75th Anniversary
DESCRIPTION:Choir! Choir! Choir!\n				\n				\n			\n			\n				\n				\n				\n				\n			\n				\n				\n				\n				\n				\n				\n				\n				\n				\n				\n				\n			\n				\n				\n				\n				\n				\n			\n				\n				\n				\n				\n				\n			\n				BUY TICKETS\n			\n				\n				\n				\n				\n				\n			\n			\n				\n				\n				\n				\n				\n				\n				\n				\n				\n				Follow Bristol Ballet\n			\n				\n				\n				\n				\n				FollowFollowFollowFollow
URL:https://paramountbristol.org/event/bb75/
LOCATION:Paramount Bristol\, Bristol\, TN
CATEGORIES:Concert,Country,Live Events,Music,Music and Live Events
ATTACH;FMTTYPE=image/png:https://paramountbristol.org/wp-content/uploads/2023/05/BB_75Anniversary_Social-400-x-284.png
ORGANIZER;CN="Paramount Bristol Hosts A Bristol Ballet Presentation Of":MAILTO:mfrazier@bristolballet.org
END:VEVENT
BEGIN:VEVENT
DTSTART;TZID=America/New_York:20230818T193000
DTEND;TZID=America/New_York:20230818T223000
DTSTAMP:20260424T175319
CREATED:20230609T160028Z
LAST-MODIFIED:20230816T152717Z
UID:7454-1692387000-1692397800@paramountbristol.org
SUMMARY:Everclear
DESCRIPTION:Choir! Choir! Choir!\n				\n				\n			\n			\n				\n				\n				\n				\n			\n				\n				\n				\n				\n				\n				\n				\n				\n				\n				\n				\n			\n				\n				\n				\n				\n				\n			\n				\n				\n				\n				\n				\n			\n				BUY TICKETS\n			\n				\n				\n				\n				\n				\n			\n			\n				\n				\n				\n				\n				\n				\n				\n				\n				\n				Follow Choir! Choir! Choir!\n			\n				\n				\n				\n				\n				FollowFollowFollowFollowFollow\n			\n				\n				\n				\n				\n				Check out Everclear on Spotify!
URL:https://paramountbristol.org/event/everclear/
LOCATION:Paramount Bristol\, Bristol\, TN
CATEGORIES:Comedy,Live Events,Music,Music and Live Events,Pop,Pre-sale
ATTACH;FMTTYPE=image/jpeg:https://paramountbristol.org/wp-content/uploads/2023/06/Everclear-400-x-284-SOLD-OUT.jpg
END:VEVENT
BEGIN:VEVENT
DTSTART;TZID=America/New_York:20220709T200000
DTEND;TZID=America/New_York:20220709T220000
DTSTAMP:20260424T175319
CREATED:20220506T160143Z
LAST-MODIFIED:20220709T184200Z
UID:5110-1657396800-1657404000@paramountbristol.org
SUMMARY:The Kenny & Dolly Show
DESCRIPTION:Choir! Choir! Choir!\n				\n				\n			\n			\n				\n				\n				\n				\n			\n				\n				\n				\n				\n				\n				\n				\n				\n				\n				\n				\n			\n				\n				\n				\n				\n				\n			\n				\n				\n				\n				\n				\n			\n				BUY TICKETS\n			\n				\n				\n				\n				\n				\n			\n			\n				\n				\n				\n				\n				\n				\n				\n				\n				\n				FollowFollowFollowFollow
URL:https://paramountbristol.org/event/kenny_and_dolly/
LOCATION:Paramount Bristol\, Bristol\, TN
CATEGORIES:Country,Just Announced,Live Events,Music and Live Events,Musical,Upcoming Attractions
ATTACH;FMTTYPE=image/png:https://paramountbristol.org/wp-content/uploads/2022/05/Kenny-Dolly-FEATURE-2.png
END:VEVENT
BEGIN:VEVENT
DTSTART;TZID=America/New_York:20220520T200000
DTEND;TZID=America/New_York:20220520T220000
DTSTAMP:20260424T175319
CREATED:20220324T180118Z
LAST-MODIFIED:20220403T184602Z
UID:5187-1653076800-1653084000@paramountbristol.org
SUMMARY:Get the Led Out
DESCRIPTION:Choir! Choir! Choir!\n				\n				\n			\n			\n				\n				\n				\n				\n			\n				\n				\n				\n				\n				\n				\n				\n				\n				\n				\n				\n			\n				\n				\n				\n				\n				\n			\n				\n				\n				\n				\n				\n			\n				BUY TICKETS\n			\n				\n				\n				\n				\n				\n			\n			\n				\n				\n				\n				\n				\n				\n				\n				\n				\n				FollowFollowFollowFollow
URL:https://paramountbristol.org/event/get-the-led-out/
LOCATION:Paramount Bristol\, Bristol\, TN
CATEGORIES:Country,Just Announced,Live Events,Music and Live Events,Musical,Upcoming Attractions
ATTACH;FMTTYPE=image/jpeg:https://paramountbristol.org/wp-content/uploads/2022/03/GTLO-Featured-Image.jpg
END:VEVENT
BEGIN:VEVENT
DTSTART;TZID=America/New_York:20220515T200000
DTEND;TZID=America/New_York:20220515T220000
DTSTAMP:20260424T175319
CREATED:20211210T192550Z
LAST-MODIFIED:20220429T171956Z
UID:4380-1652644800-1652652000@paramountbristol.org
SUMMARY:Scotty McCreery
DESCRIPTION:Choir! Choir! Choir!\n				\n				\n			\n			\n				\n				\n				\n				\n			\n				\n				\n				\n				\n				\n				\n				\n				\n				\n				\n				\n			\n				\n				\n				\n				\n				\n			\n				\n				\n				\n				\n				\n			\n				BUY TICKETS\n			\n				\n				\n				\n				\n				\n			\n			\n				\n				\n				\n				\n				\n				\n				\n				\n				\n				FollowFollowFollowFollow
URL:https://paramountbristol.org/event/scotty-mccreery/
LOCATION:Paramount Bristol\, Bristol\, TN
CATEGORIES:Country,Just Announced,Live Events,Music and Live Events,Musical,Upcoming Attractions
ATTACH;FMTTYPE=image/jpeg:https://paramountbristol.org/wp-content/uploads/2021/12/Scotty-McCreery-SOLD-OUT.jpg
END:VEVENT
BEGIN:VEVENT
DTSTART;TZID=America/New_York:20220514T143000
DTEND;TZID=America/New_York:20220514T170000
DTSTAMP:20260424T175319
CREATED:20220211T170108Z
LAST-MODIFIED:20220429T175001Z
UID:457-1652538600-1652547600@paramountbristol.org
SUMMARY:Cinderella
DESCRIPTION:Choir! Choir! Choir!\n				\n				\n			\n			\n				\n				\n				\n				\n			\n				\n				\n				\n				\n				\n				\n				\n				\n				\n				\n				\n			\n				\n				\n				\n				\n				\n			\n				\n				\n				\n				\n				\n			\n				BUY TICKETS\n			\n				\n				\n				\n				\n				\n			\n			\n				\n				\n				\n				\n				\n				\n				\n				\n				\n				Follow Bristol Ballet \n			\n				\n				\n				\n				\n				FollowFollowFollowFollow
URL:https://paramountbristol.org/event/cinderella/
LOCATION:Paramount Bristol\, Bristol\, TN
CATEGORIES:Concert,Country,Live Events,Music,Music and Live Events
ATTACH;FMTTYPE=image/jpeg:https://paramountbristol.org/wp-content/uploads/2022/02/Cinderella-SOLD-OUT.jpg
ORGANIZER;CN="Paramount Bristol Hosts A Bristol Ballet Presentation Of":MAILTO:mfrazier@bristolballet.org
END:VEVENT
BEGIN:VEVENT
DTSTART;TZID=America/New_York:20220430T190000
DTEND;TZID=America/New_York:20220430T220000
DTSTAMP:20260424T175319
CREATED:20220414T132154Z
LAST-MODIFIED:20220414T132158Z
UID:5353-1651345200-1651356000@paramountbristol.org
SUMMARY:Paramount Chamber Players
DESCRIPTION:Choir! Choir! Choir!\n				\n				\n			\n			\n				\n				\n				\n				\n			\n				\n				\n				\n				\n				\n				\n				\n				\n				\n				\n				\n			\n				\n				\n				\n				\n				\n			\n				\n				\n				\n				\n				\n			\n				BUY TICKETS\n			\n				\n				\n				\n				\n				\n			\n			\n				\n				\n				\n				\n				\n				\n				\n				\n				\n				Follow Choir! Choir! Choir!\n			\n				\n				\n				\n				\n				FollowFollowFollowFollowFollowFollow
URL:https://paramountbristol.org/event/paramount-chamber-players/
LOCATION:Paramount Bristol\, Bristol\, TN
CATEGORIES:Classical,Community Events,Just Announced,Live Events,Music,Music and Live Events,Upcoming Attractions
ATTACH;FMTTYPE=image/png:https://paramountbristol.org/wp-content/uploads/2022/04/Chamber-Players-logo.png
END:VEVENT
BEGIN:VEVENT
DTSTART;TZID=America/New_York:20220416T200000
DTEND;TZID=America/New_York:20220416T220000
DTSTAMP:20260424T175319
CREATED:20200227T150121Z
LAST-MODIFIED:20211203T185731Z
UID:389-1650139200-1650146400@paramountbristol.org
SUMMARY:Béla Fleck - My Bluegrass Heart
DESCRIPTION:Choir! Choir! Choir!\n				\n				\n			\n			\n				\n				\n				\n				\n			\n				\n				\n				\n				\n				\n				\n				\n				\n				\n				\n				\n			\n				\n				\n				\n				\n				\n			\n				\n				\n				\n				\n				\n			\n				BUY TICKETS\n			\n				\n				\n				\n				\n				\n			\n			\n				\n				\n				\n				\n				\n				\n				\n				\n				\n				Follow Béla Fleck and the Flecktones \n			\n				\n				\n				\n				\n				FollowFollowFollowFollowFollow
URL:https://paramountbristol.org/event/bela-fleck-my-bluegrass-heart/
LOCATION:Paramount Bristol\, Bristol\, TN
CATEGORIES:Live Events,Music,Music and Live Events,Upcoming Attractions
ATTACH;FMTTYPE=image/jpeg:https://paramountbristol.org/wp-content/uploads/2020/02/Bela-Fleck-WEB.jpg
END:VEVENT
BEGIN:VEVENT
DTSTART;TZID=America/New_York:20220403T200000
DTEND;TZID=America/New_York:20220403T220000
DTSTAMP:20260424T175319
CREATED:20211223T165949Z
LAST-MODIFIED:20220301T170325Z
UID:4420-1649016000-1649023200@paramountbristol.org
SUMMARY:Crowder
DESCRIPTION:Choir! Choir! Choir!\n				\n				\n			\n			\n				\n				\n				\n				\n			\n				\n				\n				\n				\n				\n				\n				\n				\n				\n				\n				\n			\n				\n				\n				\n				\n				\n			\n				\n				\n				\n				\n				\n			\n				BUY TICKETS\n			\n				\n				\n				\n				\n				\n			\n			\n				\n				\n				\n				\n				\n				\n				\n				\n				\n				FollowFollowFollowFollowFollow
URL:https://paramountbristol.org/event/crowder/
LOCATION:Paramount Bristol\, Bristol\, TN
CATEGORIES:Country,Just Announced,Live Events,Music and Live Events,Musical,Upcoming Attractions
ATTACH;FMTTYPE=image/jpeg:https://paramountbristol.org/wp-content/uploads/2021/12/Crowder-SOLD-OUT.jpg
END:VEVENT
BEGIN:VEVENT
DTSTART;TZID=America/New_York:20220203T200000
DTEND;TZID=America/New_York:20220203T220000
DTSTAMP:20260424T175319
CREATED:20211217T170148Z
LAST-MODIFIED:20220106T170055Z
UID:4405-1643918400-1643925600@paramountbristol.org
SUMMARY:THE FABBA SHOW - The ABBA Tribute
DESCRIPTION:Choir! Choir! Choir!\n				\n				\n			\n			\n				\n				\n				\n				\n			\n				\n				\n				\n				\n				\n				\n				\n				\n				\n				\n				\n			\n				\n				\n				\n				\n				\n			\n				\n				\n				\n				\n				\n			\n				BUY TICKETS\n			\n				\n				\n				\n				\n				\n			\n			\n				\n				\n				\n				\n				\n				\n				\n				\n				\n				FollowFollowFollowFollowFollow
URL:https://paramountbristol.org/event/fabba/
LOCATION:Paramount Bristol\, Bristol\, TN
CATEGORIES:Country,Just Announced,Live Events,Music and Live Events,Musical,Upcoming Attractions
ATTACH;FMTTYPE=image/jpeg:https://paramountbristol.org/wp-content/uploads/2021/12/FABBA-email-blast.jpg
END:VEVENT
BEGIN:VEVENT
DTSTART;TZID=America/New_York:20220121T200000
DTEND;TZID=America/New_York:20220121T220000
DTSTAMP:20260424T175319
CREATED:20200227T185912Z
LAST-MODIFIED:20220112T134321Z
UID:455-1642795200-1642802400@paramountbristol.org
SUMMARY:An Evening with Leo Kottke with special guest Dave King
DESCRIPTION:Choir! Choir! Choir!\n				\n				\n			\n			\n				\n				\n				\n				\n			\n				\n				\n				\n				\n				\n				\n				\n				\n				\n				\n				\n			\n				\n				\n				\n				\n				\n			\n				\n				\n				\n				\n				\n			\n				BUY TICKETS\n			\n				\n				\n				\n				\n				\n			\n			\n				\n				\n				\n				\n				\n				\n				\n				\n				\n				Follow Leo Kottke \n			\n				\n				\n				\n				\n				FollowFollowFollow\n			\n				\n				\n				\n				\n				\n				\n			\n				\n				\n				\n				\n				Leo Kottke – medley
URL:https://paramountbristol.org/event/an-evening-with-leo-kottke/
LOCATION:Paramount Bristol\, Bristol\, TN
CATEGORIES:Concert,Jazz,Live Events,Music,Music and Live Events,Upcoming Attractions
ATTACH;FMTTYPE=image/jpeg:https://paramountbristol.org/wp-content/uploads/2020/02/an-evening-with-leo-kottke-1920.jpg
END:VEVENT
BEGIN:VEVENT
DTSTART;TZID=America/New_York:20220114T200000
DTEND;TZID=America/New_York:20220114T223000
DTSTAMP:20260424T175319
CREATED:20200227T192934Z
LAST-MODIFIED:20210909T182506Z
UID:485-1642190400-1642199400@paramountbristol.org
SUMMARY:RUMOURS: The Ultimate Fleetwood Mac Tribute Show
DESCRIPTION:Choir! Choir! Choir!\n				\n				\n			\n			\n				\n				\n				\n				\n			\n				\n				\n				\n				\n				\n				\n				\n				\n				\n				\n				\n			\n				\n				\n				\n				\n				\n			\n				\n				\n				\n				\n				\n			\n				BUY TICKETS\n			\n				\n				\n				\n				\n				\n			\n			\n				\n				\n				\n				\n				\n				\n				\n				\n				\n				Follow RUMORS: The Ultimate Fleetwood Mac Tribute Show \n			\n				\n				\n				\n				\n				FollowFollowFollowFollowFollow
URL:https://paramountbristol.org/event/rumours-the-ultimate-fleetwood-mac-tribute-show/
LOCATION:Paramount Bristol\, Bristol\, TN
CATEGORIES:Classic Rock,Concert,Live Events,Music,Music and Live Events,Upcoming Attractions
ATTACH;FMTTYPE=image/jpeg:https://paramountbristol.org/wp-content/uploads/2020/02/rumours-the-ultimate-fleetwood-mac-tribute-show-1920.jpg
END:VEVENT
BEGIN:VEVENT
DTSTART;TZID=America/New_York:20211023T200000
DTEND;TZID=America/New_York:20211023T220000
DTSTAMP:20260424T175320
CREATED:20200227T210020Z
LAST-MODIFIED:20210223T205059Z
UID:445-1635019200-1635026400@paramountbristol.org
SUMMARY:The Blind Boys of Alabama
DESCRIPTION:Choir! Choir! Choir!\n				\n				\n			\n			\n				\n				\n				\n				\n			\n				\n				\n				\n				\n				\n				\n				\n				\n				\n				\n				Sat\, October 23\, 2021 \n			\n				\n				\n				\n				\n				\n			\n				\n				\n				\n				\n				\n			\n				BUY TICKETS\n			\n				\n				\n				\n				\n				The Blind Boys of Alabama are recognized worldwide as living legends of gospel music. Celebrated by The National Endowment for the Arts (NEA) and the National Academy of Recording Arts and Sciences (NARAS) with Lifetime Achievement Awards\, inducted into the Gospel Music Hall of Fame\, and winners of five Grammy® Awards\, they have attained the highest levels of achievement in a career that spans over 70 years. The Blind Boys are known for crossing multiple musical boundaries with their remarkable interpretations of everything from traditional gospel favorites to contemporary spiritual material by songwriters such as Eric Clapton\, Prince and Tom Waits. They have appeared on recordings with many artists\, including Lou Reed\, Peter Gabriel\, Bonnie Raitt\, Willie Nelson\, Aaron Neville\, Susan Tedeschi\, Ben Harper\, Patty Griffin and Taj Mahal. The Blind Boys of Alabama have appeared on The Grammy® Awards\, 60 Minutes\, The Colbert Report and many other television shows. \n			\n				\n				\n				\n				\n				\n			\n			\n				\n				\n				\n				\n				\n				\n				\n				\n				\n				Follow the Blind Boys of Alabama \n			\n				\n				\n				\n				\n				FollowFollowFollowFollowFollow\n			\n				\n				\n				\n				\n				\n				\n			\n				\n				\n				\n				\n				Blind Boys of Alabama – ‘Singing Brings Us Closer’ | Amazon Music \n			\n				\n				\n				\n				\n				\n				\n			\n				\n				\n				\n				\n				Blind Boys of Alabama ‘Singing Brings Us Closer’
URL:https://paramountbristol.org/event/the-blind-boys-of-alabama/
LOCATION:Paramount Bristol\, Bristol\, TN
CATEGORIES:Concert,Gospel,Live Events,Music,Music and Live Events,Upcoming Attractions
ATTACH;FMTTYPE=image/jpeg:https://paramountbristol.org/wp-content/uploads/2020/02/the-blind-boys-of-alabama-1920.jpg
END:VEVENT
BEGIN:VEVENT
DTSTART;TZID=America/New_York:20211010T190000
DTEND;TZID=America/New_York:20211010T220000
DTSTAMP:20260424T175320
CREATED:20200227T192053Z
LAST-MODIFIED:20210908T203713Z
UID:477-1633892400-1633903200@paramountbristol.org
SUMMARY:An Evening with Jim Messina
DESCRIPTION:Choir! Choir! Choir!\n				\n				\n			\n			\n				\n				\n				\n				\n			\n				\n				\n				\n				\n				\n				\n				\n				\n				\n				\n				\n			\n				\n				\n				\n				\n				\n			\n				\n				\n				\n				\n				\n			\n				BUY TICKETS\n			\n				\n				\n				\n				\n				\n			\n			\n				\n				\n				\n				\n				\n				\n				\n				\n				\n				Follow Jim Messina \n			\n				\n				\n				\n				\n				FollowFollowFollowFollowFollow
URL:https://paramountbristol.org/event/jim-messina/
LOCATION:Paramount Bristol\, Bristol\, TN
CATEGORIES:Concert,Live Events,Music,Music and Live Events,Upcoming Attractions
ATTACH;FMTTYPE=image/jpeg:https://paramountbristol.org/wp-content/uploads/2020/02/an-evening-with-jim-messina-1920.jpg
END:VEVENT
BEGIN:VEVENT
DTSTART;TZID=America/New_York:20211002T170000
DTEND;TZID=America/New_York:20211002T193000
DTSTAMP:20260424T175320
CREATED:20200227T190647Z
LAST-MODIFIED:20201218T221948Z
UID:459-1633194000-1633203000@paramountbristol.org
SUMMARY:The Black Jacket Symphony: Pink Floyd's The Wall
DESCRIPTION:Choir! Choir! Choir!\n				\n				\n			\n			\n				\n				\n				\n				\n			\n				\n				\n				\n				\n				\n				\n				\n				\n				\n				\n				\n			\n				\n				\n				\n				\n				\n			\n				\n				\n				\n				\n				\n			\n				BUY TICKETS\n			\n				\n				\n				\n				\n				Sat\, October 2\, 2021 \n			\n				\n				\n				\n				\n				Doors: 8:00 pm / Show: 9:00 pm \n			\n				BUY TICKETS\n			\n				\n				\n				\n				\n				\n			\n			\n				\n				\n				\n				\n				\n				\n				\n				\n				\n				Follow Black Jacket Symphony \n			\n				\n				\n				\n				\n				FollowFollowFollowFollow
URL:https://paramountbristol.org/event/the-black-jacket-symphony-pink-floyds-the-wall/
LOCATION:Paramount Bristol\, Bristol\, TN
CATEGORIES:Classic Rock,Concert,Live Events,Music,Music and Live Events,Upcoming Attractions
ATTACH;FMTTYPE=image/jpeg:https://paramountbristol.org/wp-content/uploads/2020/02/generic-image-pink-floyd.jpeg
END:VEVENT
BEGIN:VEVENT
DTSTART;TZID=America/New_York:20210926T170000
DTEND;TZID=America/New_York:20210926T210000
DTSTAMP:20260424T175320
CREATED:20200227T191734Z
LAST-MODIFIED:20210727T213651Z
UID:469-1632675600-1632690000@paramountbristol.org
SUMMARY:The Paramount Revival featuring Amy Grant
DESCRIPTION:Choir! Choir! Choir!\n				\n				\n			\n			\n				\n				\n				\n				\n			\n				\n				\n				\n				\n				\n				\n				\n				\n				\n				\n				\n			\n				\n				\n				\n				\n				\n			\n				\n				\n				\n				\n				\n			\n				CLICK HERE TO DONATE
URL:https://paramountbristol.org/event/the-paramount-revival-2020/
LOCATION:Paramount Bristol\, Bristol\, TN
CATEGORIES:Community Events,Concert,Live Events,Music,Music and Live Events,Other,Special Events,Upcoming Attractions
ATTACH;FMTTYPE=image/jpeg:https://paramountbristol.org/wp-content/uploads/2020/02/Amy-Grant-Website.jpg
END:VEVENT
BEGIN:VEVENT
DTSTART;TZID=America/New_York:20210813T200000
DTEND;TZID=America/New_York:20210813T220000
DTSTAMP:20260424T175320
CREATED:20200227T193208Z
LAST-MODIFIED:20210803T154408Z
UID:490-1628884800-1628892000@paramountbristol.org
SUMMARY:The Gatlin Brothers
DESCRIPTION:Choir! Choir! Choir!\n				\n				\n			\n			\n				\n				\n				\n				\n			\n				\n				\n				\n				\n				\n				\n				\n				\n				\n				\n				\n			\n				\n				\n				\n				\n				\n			\n				\n				\n				\n				\n				\n			\n				BUY TICKETS\n			\n				\n				\n				\n				\n				\n			\n			\n				\n				\n				\n				\n				\n				\n				\n				\n				\n				Follow the Gatlin Brothers \n			\n				\n				\n				\n				\n				FollowFollowFollowFollowFollow
URL:https://paramountbristol.org/event/the-gatlin-brothers/
LOCATION:Paramount Bristol\, Bristol\, TN
CATEGORIES:Concert,Country,Live Events,Music,Music and Live Events,Upcoming Attractions
ATTACH;FMTTYPE=image/jpeg:https://paramountbristol.org/wp-content/uploads/2020/02/the-gatlin-brothers-1920-scaled.jpg
END:VEVENT
BEGIN:VEVENT
DTSTART;TZID=America/New_York:20200402T200000
DTEND;TZID=America/New_York:20200402T220000
DTSTAMP:20260424T175320
CREATED:20200227T185359Z
LAST-MODIFIED:20200327T204544Z
UID:451-1585857600-1585864800@paramountbristol.org
SUMMARY:Charles Esten
DESCRIPTION:Choir! Choir! Choir!\n				\n				\n			\n			\n				\n				\n				\n				\n			\n				\n				\n				\n				\n				\n				\n				\n				\n				\n				\n				\n			\n				\n				\n				\n				\n				\n			\n				\n				\n				\n				\n				\n			\n				BUY TICKETS\n			\n				\n				\n				\n				\n				\n			\n			\n				\n				\n				\n				\n				\n				\n				\n				\n				\n				Follow Charles Esten \n			\n				\n				\n				\n				\n				FollowFollowFollowFollowFollow\n			\n				\n				\n				\n				\n				\n				\n			\n				\n				\n				\n				\n				Through the Blue
URL:https://paramountbristol.org/event/charles-esten/
LOCATION:Paramount Bristol\, Bristol\, TN
CATEGORIES:Concert,Country,Live Events,Music,Music and Live Events,Upcoming Attractions
ATTACH;FMTTYPE=image/jpeg:https://paramountbristol.org/wp-content/uploads/2020/02/charles-esten-1920.jpg
END:VEVENT
BEGIN:VEVENT
DTSTART;TZID=America/New_York:20200315T150000
DTEND;TZID=America/New_York:20200315T170000
DTSTAMP:20260424T175320
CREATED:20200306T194719Z
LAST-MODIFIED:20200313T180111Z
UID:2043-1584284400-1584291600@paramountbristol.org
SUMMARY:Musical Memories
DESCRIPTION:Choir! Choir! Choir!\n				\n				\n			\n			\n				\n				\n				\n				\n			\n				\n				\n				\n				\n				\n				\n				\n				\n				\n				\n				\n			\n				\n				\n				\n				\n				\n			\n				\n				\n				\n				\n				Free with Reservation \n			\n				POSTPONED
URL:https://paramountbristol.org/event/musical-memories/
LOCATION:TN
CATEGORIES:Live Events,Special Events
ATTACH;FMTTYPE=image/jpeg:https://paramountbristol.org/wp-content/uploads/2020/03/charles-s-lawson.jpg
END:VEVENT
BEGIN:VEVENT
DTSTART;TZID=America/New_York:20200306T200000
DTEND;TZID=America/New_York:20200306T220000
DTSTAMP:20260424T175320
CREATED:20200227T162812Z
LAST-MODIFIED:20200306T223730Z
UID:418-1583524800-1583532000@paramountbristol.org
SUMMARY:Big Bad Voodoo Daddy
DESCRIPTION:Choir! Choir! Choir!\n				\n				\n			\n			\n				\n				\n				\n				\n			\n				\n				\n				\n				\n				\n				\n				\n				\n				\n				\n				\n			\n				\n				\n				\n				\n				\n			\n				\n				\n				\n				\n				\n			\n				BUY TICKETS\n			\n				\n				\n				\n				\n				\n			\n			\n				\n				\n				\n				\n				\n				\n				\n				\n				\n				Follow Big Bad Voodoo Daddy \n			\n				\n				\n				\n				\n				FollowFollowFollowFollowFollow\n			\n				\n				\n				\n				\n				\n				\n			\n			\n				\n				\n				\n				\n			\n				\n				\n			\n				\n				\n				\n				\n				\n				\n				\n				\n				\n				\n				\n				\n				\n				\n				\n				\n				\n				ALSO ON SALE\n			\n			\n				\n				\n				\n				\n			\n				\n				\n				\n				\n				\n				\n				\n				\n				\n				\n				\n				\n				\n					Jump – America’s Van Halen ExperienceFri\, June 12\, 2026 Kentucky Derby FundraiserSat\, May 2\, 2026 Kenny Wayne Shepherd – Ledbetter Heights 30th Anniversary TourSat\, October 10\, 2026
URL:https://paramountbristol.org/event/big-bad-voodoo-daddy/
LOCATION:Paramount Bristol\, Bristol\, TN
CATEGORIES:Concert,Jazz,Live Events,Music,Music and Live Events,Upcoming Attractions
ATTACH;FMTTYPE=image/jpeg:https://paramountbristol.org/wp-content/uploads/2020/02/big-bad-voodoo-daddy-1920.jpg
END:VEVENT
END:VCALENDAR