BEGIN:VCALENDAR
VERSION:2.0
PRODID:-//Paramount Bristol - ECPv6.6.4.2//NONSGML v1.0//EN
CALSCALE:GREGORIAN
METHOD:PUBLISH
X-WR-CALNAME:Paramount Bristol
X-ORIGINAL-URL:https://paramountbristol.org
X-WR-CALDESC:Events for Paramount Bristol
REFRESH-INTERVAL;VALUE=DURATION:PT1H
X-Robots-Tag:noindex
X-PUBLISHED-TTL:PT1H
BEGIN:VTIMEZONE
TZID:America/New_York
BEGIN:DAYLIGHT
TZOFFSETFROM:-0500
TZOFFSETTO:-0400
TZNAME:EDT
DTSTART:20260308T070000
END:DAYLIGHT
BEGIN:STANDARD
TZOFFSETFROM:-0400
TZOFFSETTO:-0500
TZNAME:EST
DTSTART:20261101T060000
END:STANDARD
END:VTIMEZONE
BEGIN:VEVENT
DTSTART;TZID=America/New_York:20261015T183000
DTEND;TZID=America/New_York:20261015T193000
DTSTAMP:20260425T064241
CREATED:20260317T160009Z
LAST-MODIFIED:20260316T182612Z
UID:9000-1792089000-1792092600@paramountbristol.org
SUMMARY:Trae Crowder
DESCRIPTION:Kenny Wayne Shepherd – Ledbetter Heights 30th Anniversary Tour\n				\n				\n			\n			\n				\n				\n				\n				\n			\n				\n				\n				\n				\n				\n				\n				\n				\n				\n				\n				\n			\n				\n				\n				\n				\n				\n			\n				\n				\n				\n				\n				\n			\n				BUY TICKETS\n			\n				\n				\n				\n				\n				\n			\n			\n				\n				\n				\n				\n				\n				\n				\n				\n				\n				Follow Kenny Wayne Shepherd – Ledbetter Heights 30th Anniversary Tour\n			\n				\n				\n				\n				\n				FollowFollowFollowFollow\n			\n				\n				\n				\n				\n				Sample Trae Crowder on Spotify!
URL:https://paramountbristol.org/event/trae-crowder/
LOCATION:Paramount Bristol\, Bristol\, TN
CATEGORIES:Classic Rock,Music and Live Events
ATTACH;FMTTYPE=image/png:https://paramountbristol.org/wp-content/uploads/2024/05/Trae-400-x-284.png
END:VEVENT
BEGIN:VEVENT
DTSTART;TZID=America/New_York:20261029T193000
DTEND;TZID=America/New_York:20261029T213000
DTSTAMP:20260425T064241
CREATED:20260311T160032Z
LAST-MODIFIED:20260311T154953Z
UID:10683-1793302200-1793309400@paramountbristol.org
SUMMARY:Choir! Choir! Choir!
DESCRIPTION:Kenny Wayne Shepherd – Ledbetter Heights 30th Anniversary Tour\n				\n				\n			\n			\n				\n				\n				\n				\n			\n				\n				\n				\n				\n				\n				\n				\n				\n				\n				\n				\n			\n				\n				\n				\n				\n				\n			\n				\n				\n				\n				\n				\n			\n				BUY TICKETS\n			\n				\n				\n				\n				\n				\n			\n			\n				\n				\n				\n				\n				\n				\n				\n				\n				\n				Follow Kenny Wayne Shepherd – Ledbetter Heights 30th Anniversary Tour\n			\n				\n				\n				\n				\n				FollowFollowFollowFollow
URL:https://paramountbristol.org/event/choir-choir/
LOCATION:Paramount Bristol\, Bristol\, TN
CATEGORIES:Celtic,Live Events,Music,Music and Live Events,Pre-sale
ATTACH;FMTTYPE=image/png:https://paramountbristol.org/wp-content/uploads/2026/03/CCC-Landslide_Fleetwood_400-x-284.png
END:VEVENT
END:VCALENDAR