BEGIN:VCALENDAR
VERSION:2.0
PRODID:-//Paramount Bristol - ECPv6.6.4.2//NONSGML v1.0//EN
CALSCALE:GREGORIAN
METHOD:PUBLISH
X-WR-CALNAME:Paramount Bristol
X-ORIGINAL-URL:https://paramountbristol.org
X-WR-CALDESC:Events for Paramount Bristol
REFRESH-INTERVAL;VALUE=DURATION:PT1H
X-Robots-Tag:noindex
X-PUBLISHED-TTL:PT1H
BEGIN:VTIMEZONE
TZID:America/New_York
BEGIN:DAYLIGHT
TZOFFSETFROM:-0500
TZOFFSETTO:-0400
TZNAME:EDT
DTSTART:20240310T070000
END:DAYLIGHT
BEGIN:STANDARD
TZOFFSETFROM:-0400
TZOFFSETTO:-0500
TZNAME:EST
DTSTART:20241103T060000
END:STANDARD
END:VTIMEZONE
BEGIN:VEVENT
DTSTART;TZID=America/New_York:20240410T193000
DTEND;TZID=America/New_York:20240410T213000
DTSTAMP:20260420T030624
CREATED:20231208T165538Z
LAST-MODIFIED:20231207T222251Z
UID:8103-1712777400-1712784600@paramountbristol.org
SUMMARY:John Oates
DESCRIPTION:Billy Gibbons & the BFG Band\n				\n				\n			\n			\n				\n				\n				\n				\n			\n				\n				\n				\n				\n				\n				\n				\n				\n				\n				\n				\n			\n				\n				\n				\n				\n				\n			\n				\n				\n				\n				\n				\n			\n				BUY TICKETS\n			\n				\n				\n				\n				\n				\n			\n			\n				\n				\n				\n				\n				\n				\n				\n				\n				\n				Follow Billy Gibbons & the BFG Band\n			\n				\n				\n				\n				\n				FollowFollowFollowFollowFollow\n			\n				\n				\n				\n				\n				Check out John Oates on Spotify!
URL:https://paramountbristol.org/event/oates/
LOCATION:Paramount Bristol\, Bristol\, TN
CATEGORIES:Comedy,Live Events,Music,Music and Live Events,Pop,Pre-sale
ATTACH;FMTTYPE=image/jpeg:https://paramountbristol.org/wp-content/uploads/2023/12/JOHN-OATES-400X284.jpg
END:VEVENT
BEGIN:VEVENT
DTSTART;TZID=America/New_York:20240413T193000
DTEND;TZID=America/New_York:20240413T213000
DTSTAMP:20260420T030624
CREATED:20240220T222034Z
LAST-MODIFIED:20240401T131213Z
UID:8602-1713036600-1713043800@paramountbristol.org
SUMMARY:Tonight is the Nite: The Paramount Bristol Story
DESCRIPTION:Billy Gibbons & the BFG Band\n				\n				\n			\n			\n				\n				\n				\n				\n			\n				\n				\n				\n				\n				\n				\n				\n				\n				\n				\n				\n			\n				\n				\n				\n				\n				\n			\n				\n				\n				\n				\n				\n			\n				GET TICKETS\n			\n				\n				\n				\n				\n				\n			\n			\n				\n				\n				\n				\n				\n				\n				\n				\n				\n				Follow Billy Gibbons & the BFG Band\n			\n				\n				\n				\n				\n				FollowFollowFollowFollow
URL:https://paramountbristol.org/event/ourstory/
LOCATION:Paramount Bristol\, Bristol\, TN
CATEGORIES:Live Events,Music,Music and Live Events,Pop,Pre-sale
ATTACH;FMTTYPE=image/png:https://paramountbristol.org/wp-content/uploads/2024/02/Anniversary-400-x-284.png
END:VEVENT
END:VCALENDAR