BEGIN:VCALENDAR
VERSION:2.0
PRODID:-//Paramount Bristol - ECPv6.6.4.2//NONSGML v1.0//EN
CALSCALE:GREGORIAN
METHOD:PUBLISH
X-WR-CALNAME:Paramount Bristol
X-ORIGINAL-URL:https://paramountbristol.org
X-WR-CALDESC:Events for Paramount Bristol
REFRESH-INTERVAL;VALUE=DURATION:PT1H
X-Robots-Tag:noindex
X-PUBLISHED-TTL:PT1H
BEGIN:VTIMEZONE
TZID:America/New_York
BEGIN:DAYLIGHT
TZOFFSETFROM:-0500
TZOFFSETTO:-0400
TZNAME:EDT
DTSTART:20250309T070000
END:DAYLIGHT
BEGIN:STANDARD
TZOFFSETFROM:-0400
TZOFFSETTO:-0500
TZNAME:EST
DTSTART:20251102T060000
END:STANDARD
END:VTIMEZONE
BEGIN:VEVENT
DTSTART;TZID=America/New_York:20251017T193000
DTEND;TZID=America/New_York:20251017T223000
DTSTAMP:20260425T064612
CREATED:20250509T160048Z
LAST-MODIFIED:20251016T202255Z
UID:10271-1760729400-1760740200@paramountbristol.org
SUMMARY:Best of the Eagles - Tribute to The Eagles
DESCRIPTION:Billy Gibbons & the BFG Band\n				\n				\n			\n			\n				\n				\n				\n				\n			\n				\n				\n				\n				\n				\n				\n				\n				\n				\n				\n				\n			\n				\n				\n				\n				\n				\n			\n				\n				\n				\n				\n				\n			\n				BUY TICKETS\n			\n				\n				\n				\n				\n				\n			\n			\n				\n				\n				\n				\n				\n				\n				\n				\n				\n				Follow Billy Gibbons & the BFG Band\n			\n				\n				\n				\n				\n				FollowFollowFollowFollow
URL:https://paramountbristol.org/event/best-of-eagles-2025/
LOCATION:Paramount Bristol\, Bristol\, TN
CATEGORIES:Music and Live Events,Pop
ATTACH;FMTTYPE=image/png:https://paramountbristol.org/wp-content/uploads/2025/05/BOTE-400-x-284-LIMITED.png
END:VEVENT
END:VCALENDAR