BEGIN:VCALENDAR
VERSION:2.0
PRODID:-//Paramount Bristol - ECPv6.6.4.2//NONSGML v1.0//EN
CALSCALE:GREGORIAN
METHOD:PUBLISH
X-ORIGINAL-URL:https://paramountbristol.org
X-WR-CALDESC:Events for Paramount Bristol
REFRESH-INTERVAL;VALUE=DURATION:PT1H
X-Robots-Tag:noindex
X-PUBLISHED-TTL:PT1H
BEGIN:VTIMEZONE
TZID:America/New_York
BEGIN:DAYLIGHT
TZOFFSETFROM:-0500
TZOFFSETTO:-0400
TZNAME:EDT
DTSTART:20230312T070000
END:DAYLIGHT
BEGIN:STANDARD
TZOFFSETFROM:-0400
TZOFFSETTO:-0500
TZNAME:EST
DTSTART:20231105T060000
END:STANDARD
END:VTIMEZONE
BEGIN:VEVENT
DTSTART;TZID=America/New_York:20230519T193000
DTEND;TZID=America/New_York:20230519T223000
DTSTAMP:20260425T094613
CREATED:20221206T034256Z
LAST-MODIFIED:20230424T171825Z
UID:6473-1684524600-1684535400@paramountbristol.org
SUMMARY:A Brothers Revival - Tribute to The Allman Brothers
DESCRIPTION:Billy Gibbons & the BFG Band\n				\n				\n			\n			\n				\n				\n				\n				\n			\n				\n				\n				\n				\n				\n				\n				\n				\n				\n				\n				\n			\n				\n				\n				\n				\n				\n			\n				\n				\n				\n				\n				\n			\n				BUY TICKETS\n			\n				\n				\n				\n				\n				\n			\n			\n				\n				\n				\n				\n				\n				\n				\n				\n				\n				Follow Billy Gibbons & the BFG Band\n			\n				\n				\n				\n				\n				FollowFollowFollow
URL:https://paramountbristol.org/event/a-brothers-revival/
LOCATION:Paramount Bristol\, Bristol\, TN
CATEGORIES:Music and Live Events,Pop
ATTACH;FMTTYPE=image/jpeg:https://paramountbristol.org/wp-content/uploads/2022/12/A-Brothers-Revival-400x284-2.jpg
END:VEVENT
END:VCALENDAR