BEGIN:VCALENDAR
VERSION:2.0
PRODID:-//Paramount Bristol - ECPv6.6.4.2//NONSGML v1.0//EN
CALSCALE:GREGORIAN
METHOD:PUBLISH
X-ORIGINAL-URL:https://paramountbristol.org
X-WR-CALDESC:Events for Paramount Bristol
REFRESH-INTERVAL;VALUE=DURATION:PT1H
X-Robots-Tag:noindex
X-PUBLISHED-TTL:PT1H
BEGIN:VTIMEZONE
TZID:America/New_York
BEGIN:DAYLIGHT
TZOFFSETFROM:-0500
TZOFFSETTO:-0400
TZNAME:EDT
DTSTART:20230312T070000
END:DAYLIGHT
BEGIN:STANDARD
TZOFFSETFROM:-0400
TZOFFSETTO:-0500
TZNAME:EST
DTSTART:20231105T060000
END:STANDARD
END:VTIMEZONE
BEGIN:VEVENT
DTSTART;TZID=America/New_York:20230615T193000
DTEND;TZID=America/New_York:20230615T223000
DTSTAMP:20260425T111434
CREATED:20230331T160052Z
LAST-MODIFIED:20230522T184518Z
UID:7032-1686857400-1686868200@paramountbristol.org
SUMMARY:Dave Mason
DESCRIPTION:Billy Gibbons & the BFG Band\n				\n				\n			\n			\n				\n				\n				\n				\n			\n				\n				\n				\n				\n				\n				\n				\n				\n				\n				\n				\n			\n				\n				\n				\n				\n				\n			\n				\n				\n				\n				\n				\n			\n				BUY TICKETS\n			\n				\n				\n				\n				\n				\n			\n			\n				\n				\n				\n				\n				\n				\n				\n				\n				\n				Follow Billy Gibbons & the BFG Band\n			\n				\n				\n				\n				\n				FollowFollowFollowFollowFollow\n			\n				\n				\n				\n				\n				Sample Dave Mason on Spotify!
URL:https://paramountbristol.org/event/dave-mason/
LOCATION:Paramount Bristol\, Bristol\, TN
CATEGORIES:Classic Rock,Music and Live Events,Pop
ATTACH;FMTTYPE=image/jpeg:https://paramountbristol.org/wp-content/uploads/2023/03/DaveMason-400-x-284.jpg
END:VEVENT
END:VCALENDAR