BEGIN:VCALENDAR
VERSION:2.0
PRODID:-//Paramount Bristol - ECPv6.6.4.2//NONSGML v1.0//EN
CALSCALE:GREGORIAN
METHOD:PUBLISH
X-WR-CALNAME:Paramount Bristol
X-ORIGINAL-URL:https://paramountbristol.org
X-WR-CALDESC:Events for Paramount Bristol
REFRESH-INTERVAL;VALUE=DURATION:PT1H
X-Robots-Tag:noindex
X-PUBLISHED-TTL:PT1H
BEGIN:VTIMEZONE
TZID:America/New_York
BEGIN:DAYLIGHT
TZOFFSETFROM:-0500
TZOFFSETTO:-0400
TZNAME:EDT
DTSTART:20210314T070000
END:DAYLIGHT
BEGIN:STANDARD
TZOFFSETFROM:-0400
TZOFFSETTO:-0500
TZNAME:EST
DTSTART:20211107T060000
END:STANDARD
BEGIN:DAYLIGHT
TZOFFSETFROM:-0500
TZOFFSETTO:-0400
TZNAME:EDT
DTSTART:20220313T070000
END:DAYLIGHT
BEGIN:STANDARD
TZOFFSETFROM:-0400
TZOFFSETTO:-0500
TZNAME:EST
DTSTART:20221106T060000
END:STANDARD
BEGIN:DAYLIGHT
TZOFFSETFROM:-0500
TZOFFSETTO:-0400
TZNAME:EDT
DTSTART:20230312T070000
END:DAYLIGHT
BEGIN:STANDARD
TZOFFSETFROM:-0400
TZOFFSETTO:-0500
TZNAME:EST
DTSTART:20231105T060000
END:STANDARD
BEGIN:DAYLIGHT
TZOFFSETFROM:-0500
TZOFFSETTO:-0400
TZNAME:EDT
DTSTART:20240310T070000
END:DAYLIGHT
BEGIN:STANDARD
TZOFFSETFROM:-0400
TZOFFSETTO:-0500
TZNAME:EST
DTSTART:20241103T060000
END:STANDARD
BEGIN:DAYLIGHT
TZOFFSETFROM:-0500
TZOFFSETTO:-0400
TZNAME:EDT
DTSTART:20250309T070000
END:DAYLIGHT
BEGIN:STANDARD
TZOFFSETFROM:-0400
TZOFFSETTO:-0500
TZNAME:EST
DTSTART:20251102T060000
END:STANDARD
BEGIN:DAYLIGHT
TZOFFSETFROM:-0500
TZOFFSETTO:-0400
TZNAME:EDT
DTSTART:20260308T070000
END:DAYLIGHT
BEGIN:STANDARD
TZOFFSETFROM:-0400
TZOFFSETTO:-0500
TZNAME:EST
DTSTART:20261101T060000
END:STANDARD
END:VTIMEZONE
BEGIN:VEVENT
DTSTART;TZID=America/New_York:20260207T143000
DTEND;TZID=America/New_York:20260207T173000
DTSTAMP:20260419T223848
CREATED:20260107T170059Z
LAST-MODIFIED:20260123T183925Z
UID:10631-1770474600-1770485400@paramountbristol.org
SUMMARY:A Love Letter to the Paramount
DESCRIPTION:A Love Letter to the Paramount\n				\n				\n			\n			\n				\n				\n				\n				\n			\n				\n				\n				\n				\n				\n				\n				\n				\n				\n				\n				\n			\n				\n				\n				\n				\n				\n			\n				\n				\n				\n				\n				\n			\n				GET TICKETS
URL:https://paramountbristol.org/event/love-letter/
LOCATION:Paramount Bristol\, Bristol\, TN
CATEGORIES:Music and Live Events,Other
ATTACH;FMTTYPE=image/jpeg:https://paramountbristol.org/wp-content/uploads/2026/01/Love-Letters-400-x-284.jpg
END:VEVENT
BEGIN:VEVENT
DTSTART;TZID=America/New_York:20251125T160000
DTEND;TZID=America/New_York:20251125T193000
DTSTAMP:20260419T223848
CREATED:20251017T200044Z
LAST-MODIFIED:20251113T115225Z
UID:10533-1764086400-1764099000@paramountbristol.org
SUMMARY:COOKIES with SANTA
DESCRIPTION:A Love Letter to the Paramount\n				\n				\n			\n			\n				\n				\n				\n				\n			\n				\n				\n				\n				\n				\n				\n				\n				\n				\n				\n				\n			\n				\n				\n				\n				\n				\n			\n				\n				\n				\n				\n				\n			\n				BUY TICKETS\n			\n			\n				\n				\n				\n				\n				\n				\n				\n				\n				\n				\n			\n				\n				\n				\n				\n				\n			\n				\n				\n				\n				\n				\n			\n				BUY TICKETS\n			\n			\n				\n				\n				\n				\n			\n				\n				\n				\n				\n				\n				\n				\n				\n				\n				\n				\n			\n				\n				\n				\n				\n				\n			\n				\n				\n				\n				\n				\n			\n				BUY TICKETS\n			\n			\n				\n				\n				\n				\n				\n				\n				\n				\n				\n				\n			\n				\n				\n				\n				\n				\n			\n				\n				\n				\n				\n				\n			\n				BUY TICKETS
URL:https://paramountbristol.org/event/cookies-with-santa/
LOCATION:Paramount Bristol\, Bristol\, TN
CATEGORIES:Children's,Community Events,Music and Live Events,Other
ATTACH;FMTTYPE=image/jpeg:https://paramountbristol.org/wp-content/uploads/2025/10/Cookeis-with-Santa-400-x-284.jpg
END:VEVENT
BEGIN:VEVENT
DTSTART;TZID=America/New_York:20250328T193000
DTEND;TZID=America/New_York:20250329T230000
DTSTAMP:20260419T223848
CREATED:20241129T170047Z
LAST-MODIFIED:20250331T084740Z
UID:6350-1743190200-1743289200@paramountbristol.org
SUMMARY:Puppy Pals
DESCRIPTION:A Love Letter to the Paramount\n				\n				\n			\n			\n				\n				\n				\n				\n			\n				\n				\n				\n				\n				\n				\n				\n				\n				\n				\n				\n			\n				\n				\n				\n				\n				\n			\n				\n				\n				\n				\n				\n			\n				BUY TICKETS\n			\n				\n				\n				\n				\n				\n			\n			\n				\n				\n				\n				\n				\n				\n				\n				\n				\n				Follow A Love Letter to the Paramount\n			\n				\n				\n				\n				\n				FollowFollowFollow
URL:https://paramountbristol.org/event/puppy-pals/
LOCATION:Paramount Bristol\, Bristol\, TN
CATEGORIES:Music and Live Events,Other,Pop
ATTACH;FMTTYPE=image/jpeg:https://paramountbristol.org/wp-content/uploads/2022/10/Puppy-Pals-400-x-284-1.jpg
END:VEVENT
BEGIN:VEVENT
DTSTART;TZID=America/New_York:20210926T170000
DTEND;TZID=America/New_York:20210926T210000
DTSTAMP:20260419T223848
CREATED:20200227T191734Z
LAST-MODIFIED:20210727T213651Z
UID:469-1632675600-1632690000@paramountbristol.org
SUMMARY:The Paramount Revival featuring Amy Grant
DESCRIPTION:A Love Letter to the Paramount\n				\n				\n			\n			\n				\n				\n				\n				\n			\n				\n				\n				\n				\n				\n				\n				\n				\n				\n				\n				\n			\n				\n				\n				\n				\n				\n			\n				\n				\n				\n				\n				\n			\n				CLICK HERE TO DONATE
URL:https://paramountbristol.org/event/the-paramount-revival-2020/
LOCATION:Paramount Bristol\, Bristol\, TN
CATEGORIES:Community Events,Concert,Live Events,Music,Music and Live Events,Other,Special Events,Upcoming Attractions
ATTACH;FMTTYPE=image/jpeg:https://paramountbristol.org/wp-content/uploads/2020/02/Amy-Grant-Website.jpg
END:VEVENT
END:VCALENDAR