BEGIN:VCALENDAR
VERSION:2.0
PRODID:-//Paramount Bristol - ECPv6.6.4.2//NONSGML v1.0//EN
CALSCALE:GREGORIAN
METHOD:PUBLISH
X-WR-CALNAME:Paramount Bristol
X-ORIGINAL-URL:https://paramountbristol.org
X-WR-CALDESC:Events for Paramount Bristol
REFRESH-INTERVAL;VALUE=DURATION:PT1H
X-Robots-Tag:noindex
X-PUBLISHED-TTL:PT1H
BEGIN:VTIMEZONE
TZID:America/New_York
BEGIN:DAYLIGHT
TZOFFSETFROM:-0500
TZOFFSETTO:-0400
TZNAME:EDT
DTSTART:20220313T070000
END:DAYLIGHT
BEGIN:STANDARD
TZOFFSETFROM:-0400
TZOFFSETTO:-0500
TZNAME:EST
DTSTART:20221106T060000
END:STANDARD
END:VTIMEZONE
BEGIN:VEVENT
DTSTART;TZID=America/New_York:20220123T190000
DTEND;TZID=America/New_York:20220123T220000
DTSTAMP:20260419T224714
CREATED:20211112T150059Z
LAST-MODIFIED:20220121T181918Z
UID:4066-1642964400-1642975200@paramountbristol.org
SUMMARY:Marty Stuart & His Fabulous Superlatives
DESCRIPTION:Bristol Dance Academy – It’s Showtime!\n				\n				\n			\n			\n				\n				\n				\n				\n			\n				\n				\n				\n				\n				\n				\n				\n				\n				\n				\n				\n			\n				\n				\n				\n				\n				\n			\n				\n				\n				\n				\n				\n			\n				BUY TICKETS\n			\n				\n				\n				\n				\n				\n			\n			\n				\n				\n				\n				\n				\n				\n				\n				\n				\n				FollowFollowFollowFollowFollow
URL:https://paramountbristol.org/event/marty/
LOCATION:Paramount Bristol\, Bristol\, TN
CATEGORIES:Country,Just Announced,Music and Live Events,Upcoming Attractions
ATTACH;FMTTYPE=image/jpeg:https://paramountbristol.org/wp-content/uploads/2021/11/Marty-Web.jpg
END:VEVENT
END:VCALENDAR