BEGIN:VCALENDAR
VERSION:2.0
PRODID:-//Paramount Bristol - ECPv6.6.4.2//NONSGML v1.0//EN
CALSCALE:GREGORIAN
METHOD:PUBLISH
X-ORIGINAL-URL:https://paramountbristol.org
X-WR-CALDESC:Events for Paramount Bristol
REFRESH-INTERVAL;VALUE=DURATION:PT1H
X-Robots-Tag:noindex
X-PUBLISHED-TTL:PT1H
BEGIN:VTIMEZONE
TZID:America/New_York
BEGIN:DAYLIGHT
TZOFFSETFROM:-0500
TZOFFSETTO:-0400
TZNAME:EDT
DTSTART:20220313T070000
END:DAYLIGHT
BEGIN:STANDARD
TZOFFSETFROM:-0400
TZOFFSETTO:-0500
TZNAME:EST
DTSTART:20221106T060000
END:STANDARD
END:VTIMEZONE
BEGIN:VEVENT
DTSTART;TZID=America/New_York:20220409T190000
DTEND;TZID=America/New_York:20220409T220000
DTSTAMP:20260422T090338
CREATED:20211029T001510Z
LAST-MODIFIED:20250815T172520Z
UID:4011-1649530800-1649541600@paramountbristol.org
SUMMARY:An Evening with Mark Lowry
DESCRIPTION:Bristol Dance Academy – It’s Showtime!\n				\n				\n			\n			\n				\n				\n				\n				\n			\n				\n				\n				\n				\n				\n				\n				\n				\n				\n				\n				\n			\n				\n				\n				\n				\n				\n			\n				\n				\n				\n				\n				\n			\n				BUY TICKETS\n			\n				\n				\n				\n				\n				\n			\n			\n				\n				\n				\n				\n				\n				\n				\n				\n				\n				FollowFollowFollow
URL:https://paramountbristol.org/event/mark-lowry-2025/
LOCATION:Paramount Bristol\, Bristol\, TN
CATEGORIES:Comedy,Gospel,Just Announced,Music and Live Events,Upcoming Attractions
ATTACH;FMTTYPE=image/jpeg:https://paramountbristol.org/wp-content/uploads/2021/10/Mark-Lowry-400-x-284.jpg
END:VEVENT
END:VCALENDAR